BEGIN:VCALENDAR
VERSION:2.0
PRODID:JMS Hockey
X-PUBLISHED-TTL:P1W
BEGIN:VEVENT
UID:69e7b5e6bcd97
DTSTART:20211001T031500Z
SEQUENCE:0
TRANSP:OPAQUE
DTEND:20211001T044500Z
URL:http://jmshockey.com/games/13418
LOCATION:Maple Grove
SUMMARY:Lower Level Game at Maple Grove
CLASS:PUBLIC
DTSTAMP:20260421T123742Z
END:VEVENT
END:VCALENDAR