BEGIN:VCALENDAR
VERSION:2.0
PRODID:JMS Hockey
X-PUBLISHED-TTL:P1W
BEGIN:VEVENT
UID:69e7918a08372
DTSTART:20210924T023000Z
SEQUENCE:0
TRANSP:OPAQUE
DTEND:20210924T040000Z
URL:http://jmshockey.com/games/13416
LOCATION:Maple Grove
SUMMARY:Lower Level Game at Maple Grove
CLASS:PUBLIC
DTSTAMP:20260421T100234Z
END:VEVENT
END:VCALENDAR