BEGIN:VCALENDAR
VERSION:2.0
PRODID:JMS Hockey
X-PUBLISHED-TTL:P1W
BEGIN:VEVENT
UID:69e5e6eb3d406
DTSTART:20210917T024000Z
SEQUENCE:0
TRANSP:OPAQUE
DTEND:20210917T041000Z
URL:http://jmshockey.com/games/13403
LOCATION:St Thomas Ice Arena
SUMMARY:All level Game at St Thomas Ice Arena
CLASS:PUBLIC
DTSTAMP:20260420T034219Z
END:VEVENT
END:VCALENDAR