BEGIN:VCALENDAR
VERSION:2.0
PRODID:JMS Hockey
X-PUBLISHED-TTL:P1W
BEGIN:VEVENT
UID:69e7c7655989b
DTSTART:20100313T014500Z
SEQUENCE:0
TRANSP:OPAQUE
DTEND:20100313T031500Z
URL:http://jmshockey.com/games/1327
LOCATION:Breck Anderson Arena
SUMMARY:Level 1 Game at Breck Anderson Arena
CLASS:PUBLIC
DTSTAMP:20260421T135221Z
END:VEVENT
END:VCALENDAR