BEGIN:VCALENDAR
VERSION:2.0
PRODID:JMS Hockey
X-PUBLISHED-TTL:P1W
BEGIN:VEVENT
UID:69e7c766b220e
DTSTART:20100306T030000Z
SEQUENCE:0
TRANSP:OPAQUE
DTEND:20100306T043000Z
URL:http://jmshockey.com/games/1325
LOCATION:Minnesota Made
SUMMARY:Level 1 Game at Minnesota Made
CLASS:PUBLIC
DTSTAMP:20260421T135222Z
END:VEVENT
END:VCALENDAR