BEGIN:VCALENDAR
VERSION:2.0
PRODID:JMS Hockey
X-PUBLISHED-TTL:P1W
BEGIN:VEVENT
UID:69e7adcf7767b
DTSTART:20100312T030000Z
SEQUENCE:0
TRANSP:OPAQUE
DTEND:20100312T043000Z
URL:http://jmshockey.com/games/1324
LOCATION:Bloomington Ice Gardens
SUMMARY:Level 3 Game at Bloomington Ice Gardens
CLASS:PUBLIC
DTSTAMP:20260421T120311Z
END:VEVENT
END:VCALENDAR