BEGIN:VCALENDAR
VERSION:2.0
PRODID:JMS Hockey
X-PUBLISHED-TTL:P1W
BEGIN:VEVENT
UID:69e7ad9cd0100
DTSTART:20210514T004500Z
SEQUENCE:0
TRANSP:OPAQUE
DTEND:20210514T021500Z
URL:http://jmshockey.com/games/13231
LOCATION:Burnsville Arena
SUMMARY:Intermediate Game at Burnsville Arena
CLASS:PUBLIC
DTSTAMP:20260421T120220Z
END:VEVENT
END:VCALENDAR