BEGIN:VCALENDAR
VERSION:2.0
PRODID:JMS Hockey
X-PUBLISHED-TTL:P1W
BEGIN:VEVENT
UID:69e7d53be28e3
DTSTART:20210317T030000Z
SEQUENCE:0
TRANSP:OPAQUE
DTEND:20210317T043000Z
URL:http://jmshockey.com/games/13129
LOCATION:Apple Valley Hayes Park Arena
SUMMARY:Lower Level Game at Apple Valley Hayes Park Arena
CLASS:PUBLIC
DTSTAMP:20260421T145123Z
END:VEVENT
END:VCALENDAR