BEGIN:VCALENDAR
VERSION:2.0
PRODID:JMS Hockey
X-PUBLISHED-TTL:P1W
BEGIN:VEVENT
UID:69e7a71c40bde
DTSTART:20081105T031500Z
SEQUENCE:0
TRANSP:OPAQUE
DTEND:20081105T044500Z
URL:http://jmshockey.com/games/131
LOCATION:Bloomington Ice Gardens
SUMMARY:Novice Game at Bloomington Ice Gardens
CLASS:PUBLIC
DTSTAMP:20260421T113436Z
END:VEVENT
END:VCALENDAR