BEGIN:VCALENDAR
VERSION:2.0
PRODID:JMS Hockey
X-PUBLISHED-TTL:P1W
BEGIN:VEVENT
UID:69e7cba11d03f
DTSTART:20210501T024500Z
SEQUENCE:0
TRANSP:OPAQUE
DTEND:20210501T041500Z
URL:http://jmshockey.com/games/13067
LOCATION:St Louis Park Rec Center
SUMMARY:Novice Game at St Louis Park Rec Center
CLASS:PUBLIC
DTSTAMP:20260421T141025Z
END:VEVENT
END:VCALENDAR