BEGIN:VCALENDAR
VERSION:2.0
PRODID:JMS Hockey
X-PUBLISHED-TTL:P1W
BEGIN:VEVENT
UID:69e7af7f87214
DTSTART:20210109T034500Z
SEQUENCE:0
TRANSP:OPAQUE
DTEND:20210109T051500Z
URL:http://jmshockey.com/games/13051
LOCATION:St Louis Park Rec Center
SUMMARY:Novice Game at St Louis Park Rec Center
CLASS:PUBLIC
DTSTAMP:20260421T121023Z
END:VEVENT
END:VCALENDAR