BEGIN:VCALENDAR
VERSION:2.0
PRODID:JMS Hockey
X-PUBLISHED-TTL:P1W
BEGIN:VEVENT
UID:69e7c941e110f
DTSTART:20210211T023000Z
SEQUENCE:0
TRANSP:OPAQUE
DTEND:20210211T040000Z
URL:http://jmshockey.com/games/13035
LOCATION:Polar Arena
SUMMARY:All level Game at Polar Arena
CLASS:PUBLIC
DTSTAMP:20260421T140017Z
END:VEVENT
END:VCALENDAR