BEGIN:VCALENDAR
VERSION:2.0
PRODID:JMS Hockey
X-PUBLISHED-TTL:P1W
BEGIN:VEVENT
UID:69e7dd565d3d0
DTSTART:20100304T030000Z
SEQUENCE:0
TRANSP:OPAQUE
DTEND:20100304T043000Z
URL:http://jmshockey.com/games/1301
LOCATION:Minnehaha Academy
SUMMARY:Level 3 Game at Minnehaha Academy
CLASS:PUBLIC
DTSTAMP:20260421T152558Z
END:VEVENT
END:VCALENDAR