BEGIN:VCALENDAR
VERSION:2.0
PRODID:JMS Hockey
X-PUBLISHED-TTL:P1W
BEGIN:VEVENT
UID:69e788055d313
DTSTART:20201104T033000Z
SEQUENCE:0
TRANSP:OPAQUE
DTEND:20201104T050000Z
URL:http://jmshockey.com/games/12993
LOCATION:Apple Valley Sports Arena
SUMMARY:Lower Level Game at Apple Valley Sports Arena
CLASS:PUBLIC
DTSTAMP:20260421T092157Z
END:VEVENT
END:VCALENDAR