BEGIN:VCALENDAR
VERSION:2.0
PRODID:JMS Hockey
X-PUBLISHED-TTL:P1W
BEGIN:VEVENT
UID:69e7961c28ee7
DTSTART:20210206T041500Z
SEQUENCE:0
TRANSP:OPAQUE
DTEND:20210206T054500Z
URL:http://jmshockey.com/games/12969
LOCATION:Roseville Skating Center
SUMMARY:Lower Level Game at Roseville Skating Center
CLASS:PUBLIC
DTSTAMP:20260421T102204Z
END:VEVENT
END:VCALENDAR