BEGIN:VCALENDAR
VERSION:2.0
PRODID:JMS Hockey
X-PUBLISHED-TTL:P1W
BEGIN:VEVENT
UID:69e79fb2824bf
DTSTART:20210123T041500Z
SEQUENCE:0
TRANSP:OPAQUE
DTEND:20210123T054500Z
URL:http://jmshockey.com/games/12967
LOCATION:Roseville Skating Center
SUMMARY:Lower Level Game at Roseville Skating Center
CLASS:PUBLIC
DTSTAMP:20260421T110258Z
END:VEVENT
END:VCALENDAR