BEGIN:VCALENDAR
VERSION:2.0
PRODID:JMS Hockey
X-PUBLISHED-TTL:P1W
BEGIN:VEVENT
UID:69e7d4dd59030
DTSTART:20100227T041500Z
SEQUENCE:0
TRANSP:OPAQUE
DTEND:20100227T054500Z
URL:http://jmshockey.com/games/1290
LOCATION:St Louis Park Rec Center
SUMMARY:Level 2 Game at St Louis Park Rec Center
CLASS:PUBLIC
DTSTAMP:20260421T144949Z
END:VEVENT
END:VCALENDAR