BEGIN:VCALENDAR
VERSION:2.0
PRODID:JMS Hockey
X-PUBLISHED-TTL:P1W
BEGIN:VEVENT
UID:69e7e6a39d9c6
DTSTART:20100227T023000Z
SEQUENCE:0
TRANSP:OPAQUE
DTEND:20100227T040000Z
URL:http://jmshockey.com/games/1284
LOCATION:St Louis Park Rec Center
SUMMARY:Level 1 Game at St Louis Park Rec Center
CLASS:PUBLIC
DTSTAMP:20260421T160539Z
END:VEVENT
END:VCALENDAR