BEGIN:VCALENDAR
VERSION:2.0
PRODID:JMS Hockey
X-PUBLISHED-TTL:P1W
BEGIN:VEVENT
UID:69e79a61d69cd
DTSTART:20201118T034500Z
SEQUENCE:0
TRANSP:OPAQUE
DTEND:20201118T051500Z
URL:http://jmshockey.com/games/12815
LOCATION:Maple Grove
SUMMARY:Intermediate Game at Maple Grove
CLASS:PUBLIC
DTSTAMP:20260421T104017Z
END:VEVENT
END:VCALENDAR