BEGIN:VCALENDAR
VERSION:2.0
PRODID:JMS Hockey
X-PUBLISHED-TTL:P1W
BEGIN:VEVENT
UID:69e7ad34be3ea
DTSTART:20081101T020000Z
SEQUENCE:0
TRANSP:OPAQUE
DTEND:20081101T033000Z
URL:http://jmshockey.com/games/128
LOCATION:Richfield Ice Arena
SUMMARY:Level 2 Game at Richfield Ice Arena
CLASS:PUBLIC
DTSTAMP:20260421T120036Z
END:VEVENT
END:VCALENDAR