BEGIN:VCALENDAR
VERSION:2.0
PRODID:JMS Hockey
X-PUBLISHED-TTL:P1W
BEGIN:VEVENT
UID:69e785c32b960
DTSTART:20201009T021500Z
SEQUENCE:0
TRANSP:OPAQUE
DTEND:20201009T034500Z
URL:http://jmshockey.com/games/12781
LOCATION:Maple Grove
SUMMARY:Lower Level Game at Maple Grove
CLASS:PUBLIC
DTSTAMP:20260421T091219Z
END:VEVENT
END:VCALENDAR