BEGIN:VCALENDAR
VERSION:2.0
PRODID:JMS Hockey
X-PUBLISHED-TTL:P1W
BEGIN:VEVENT
UID:69e7cb93e6206
DTSTART:20100225T041500Z
SEQUENCE:0
TRANSP:OPAQUE
DTEND:20100225T054500Z
URL:http://jmshockey.com/games/1278
LOCATION:Highland Arena
SUMMARY:Level 2 Game at Highland Arena
CLASS:PUBLIC
DTSTAMP:20260421T141011Z
END:VEVENT
END:VCALENDAR