BEGIN:VCALENDAR
VERSION:2.0
PRODID:JMS Hockey
X-PUBLISHED-TTL:P1W
BEGIN:VEVENT
UID:69e7dd518d60a
DTSTART:20100224T034500Z
SEQUENCE:0
TRANSP:OPAQUE
DTEND:20100224T051500Z
URL:http://jmshockey.com/games/1276
LOCATION:Plymouth Ice Center
SUMMARY:Level 3 Game at Plymouth Ice Center
CLASS:PUBLIC
DTSTAMP:20260421T152553Z
END:VEVENT
END:VCALENDAR