BEGIN:VCALENDAR
VERSION:2.0
PRODID:JMS Hockey
X-PUBLISHED-TTL:P1W
BEGIN:VEVENT
UID:69e82d5911220
DTSTART:20100223T030000Z
SEQUENCE:0
TRANSP:OPAQUE
DTEND:20100223T043000Z
URL:http://jmshockey.com/games/1271
LOCATION:New Hope Ice Arena
SUMMARY:Level 5 Game at New Hope Ice Arena
CLASS:PUBLIC
DTSTAMP:20260421T210721Z
END:VEVENT
END:VCALENDAR