BEGIN:VCALENDAR
VERSION:2.0
PRODID:JMS Hockey
X-PUBLISHED-TTL:P1W
BEGIN:VEVENT
UID:69e7961d403dd
DTSTART:20200325T012000Z
SEQUENCE:0
TRANSP:OPAQUE
DTEND:20200325T025000Z
URL:http://jmshockey.com/games/12682
LOCATION:Burnsville Arena
SUMMARY:Lower Level Game at Burnsville Arena
CLASS:PUBLIC
DTSTAMP:20260421T102205Z
END:VEVENT
END:VCALENDAR