BEGIN:VCALENDAR
VERSION:2.0
PRODID:JMS Hockey
X-PUBLISHED-TTL:P1W
BEGIN:VEVENT
UID:69e7c3a347a9f
DTSTART:20200331T012000Z
SEQUENCE:0
TRANSP:OPAQUE
DTEND:20200331T025000Z
URL:http://jmshockey.com/games/12662
LOCATION:Doug Woog Arena (Wakota)
SUMMARY:Novice Game at Doug Woog Arena (Wakota)
CLASS:PUBLIC
DTSTAMP:20260421T133619Z
END:VEVENT
END:VCALENDAR