BEGIN:VCALENDAR
VERSION:2.0
PRODID:JMS Hockey
X-PUBLISHED-TTL:P1W
BEGIN:VEVENT
UID:69e797aa4b072
DTSTART:20200326T021500Z
SEQUENCE:0
TRANSP:OPAQUE
DTEND:20200326T034500Z
URL:http://jmshockey.com/games/12629
LOCATION:Polar Arena
SUMMARY:Lower Level Game at Polar Arena
CLASS:PUBLIC
DTSTAMP:20260421T102842Z
END:VEVENT
END:VCALENDAR