BEGIN:VCALENDAR
VERSION:2.0
PRODID:JMS Hockey
X-PUBLISHED-TTL:P1W
BEGIN:VEVENT
UID:69e797a9926c6
DTSTART:20200312T010000Z
SEQUENCE:0
TRANSP:OPAQUE
DTEND:20200312T023000Z
URL:http://jmshockey.com/games/12627
LOCATION:Polar Arena
SUMMARY:Lower Level Game at Polar Arena
CLASS:PUBLIC
DTSTAMP:20260421T102841Z
END:VEVENT
END:VCALENDAR