BEGIN:VCALENDAR
VERSION:2.0
PRODID:JMS Hockey
X-PUBLISHED-TTL:P1W
BEGIN:VEVENT
UID:69e7bf996f666
DTSTART:20100218T034500Z
SEQUENCE:0
TRANSP:OPAQUE
DTEND:20100218T051500Z
URL:http://jmshockey.com/games/1261
LOCATION:Northeast Arena
SUMMARY:Level 3 Game at Northeast Arena
CLASS:PUBLIC
DTSTAMP:20260421T131905Z
END:VEVENT
END:VCALENDAR