BEGIN:VCALENDAR
VERSION:2.0
PRODID:JMS Hockey
X-PUBLISHED-TTL:P1W
BEGIN:VEVENT
UID:69e7cebd3ff5a
DTSTART:20200215T035000Z
SEQUENCE:0
TRANSP:OPAQUE
DTEND:20200215T045000Z
URL:http://jmshockey.com/games/12604
LOCATION:Doug Woog Arena (Wakota)
SUMMARY:Intermediate Game at Doug Woog Arena (Wakota)
CLASS:PUBLIC
DTSTAMP:20260421T142341Z
END:VEVENT
END:VCALENDAR