BEGIN:VCALENDAR
VERSION:2.0
PRODID:JMS Hockey
X-PUBLISHED-TTL:P1W
BEGIN:VEVENT
UID:69e86747e3e9b
DTSTART:20081101T021500Z
SEQUENCE:0
TRANSP:OPAQUE
DTEND:20081101T034500Z
URL:http://jmshockey.com/games/126
LOCATION:Bloomington Ice Gardens
SUMMARY:Level 4 Game at Bloomington Ice Gardens
CLASS:PUBLIC
DTSTAMP:20260422T011431Z
END:VEVENT
END:VCALENDAR