BEGIN:VCALENDAR
VERSION:2.0
PRODID:JMS Hockey
X-PUBLISHED-TTL:P1W
BEGIN:VEVENT
UID:69e78800ccc15
DTSTART:20200225T035000Z
SEQUENCE:0
TRANSP:OPAQUE
DTEND:20200225T045000Z
URL:http://jmshockey.com/games/12597
LOCATION:Doug Woog Arena (Wakota)
SUMMARY:Novice Game at Doug Woog Arena (Wakota)
CLASS:PUBLIC
DTSTAMP:20260421T092152Z
END:VEVENT
END:VCALENDAR