BEGIN:VCALENDAR
VERSION:2.0
PRODID:JMS Hockey
X-PUBLISHED-TTL:P1W
BEGIN:VEVENT
UID:69e7d52023933
DTSTART:20100218T041500Z
SEQUENCE:0
TRANSP:OPAQUE
DTEND:20100218T054500Z
URL:http://jmshockey.com/games/1258
LOCATION:Highland Arena
SUMMARY:Level 2 Game at Highland Arena
CLASS:PUBLIC
DTSTAMP:20260421T145056Z
END:VEVENT
END:VCALENDAR