BEGIN:VCALENDAR
VERSION:2.0
PRODID:JMS Hockey
X-PUBLISHED-TTL:P1W
BEGIN:VEVENT
UID:69e7c76c08453
DTSTART:20200115T033000Z
SEQUENCE:0
TRANSP:OPAQUE
DTEND:20200115T050000Z
URL:http://jmshockey.com/games/12539
LOCATION:Maple Grove
SUMMARY:Intermediate Game at Maple Grove
CLASS:PUBLIC
DTSTAMP:20260421T135228Z
END:VEVENT
END:VCALENDAR