BEGIN:VCALENDAR
VERSION:2.0
PRODID:JMS Hockey
X-PUBLISHED-TTL:P1W
BEGIN:VEVENT
UID:69e7aa6c2cdb0
DTSTART:20200214T033000Z
SEQUENCE:0
TRANSP:OPAQUE
DTEND:20200214T050000Z
URL:http://jmshockey.com/games/12510
LOCATION:Apple Valley Sports Arena
SUMMARY:Intermediate Game at Apple Valley Sports Arena
CLASS:PUBLIC
DTSTAMP:20260421T114844Z
END:VEVENT
END:VCALENDAR