BEGIN:VCALENDAR
VERSION:2.0
PRODID:JMS Hockey
X-PUBLISHED-TTL:P1W
BEGIN:VEVENT
UID:69e785c110f3f
DTSTART:20200205T033000Z
SEQUENCE:0
TRANSP:OPAQUE
DTEND:20200205T050000Z
URL:http://jmshockey.com/games/12499
LOCATION:Apple Valley Sports Arena
SUMMARY:Lower Level Game at Apple Valley Sports Arena
CLASS:PUBLIC
DTSTAMP:20260421T091217Z
END:VEVENT
END:VCALENDAR