BEGIN:VCALENDAR
VERSION:2.0
PRODID:JMS Hockey
X-PUBLISHED-TTL:P1W
BEGIN:VEVENT
UID:69e7a79e001b8
DTSTART:20191205T035000Z
SEQUENCE:0
TRANSP:OPAQUE
DTEND:20191205T052000Z
URL:http://jmshockey.com/games/12488
LOCATION:Doug Woog Arena (Wakota)
SUMMARY:Upper Level Game at Doug Woog Arena (Wakota)
CLASS:PUBLIC
DTSTAMP:20260421T113646Z
END:VEVENT
END:VCALENDAR