BEGIN:VCALENDAR
VERSION:2.0
PRODID:JMS Hockey
X-PUBLISHED-TTL:P1W
BEGIN:VEVENT
UID:69e7ea7d89df5
DTSTART:20191204T033000Z
SEQUENCE:0
TRANSP:OPAQUE
DTEND:20191204T050000Z
URL:http://jmshockey.com/games/12477
LOCATION:Maple Grove
SUMMARY:Intermediate Game at Maple Grove
CLASS:PUBLIC
DTSTAMP:20260421T162205Z
END:VEVENT
END:VCALENDAR