BEGIN:VCALENDAR
VERSION:2.0
PRODID:JMS Hockey
X-PUBLISHED-TTL:P1W
BEGIN:VEVENT
UID:69e7af2472ad4
DTSTART:20191219T023000Z
SEQUENCE:0
TRANSP:OPAQUE
DTEND:20191219T040000Z
URL:http://jmshockey.com/games/12462
LOCATION:Polar Arena
SUMMARY:Lower Level Game at Polar Arena
CLASS:PUBLIC
DTSTAMP:20260421T120852Z
END:VEVENT
END:VCALENDAR