BEGIN:VCALENDAR
VERSION:2.0
PRODID:JMS Hockey
X-PUBLISHED-TTL:P1W
BEGIN:VEVENT
UID:69e7a3e41d675
DTSTART:20191107T035000Z
SEQUENCE:0
TRANSP:OPAQUE
DTEND:20191107T052000Z
URL:http://jmshockey.com/games/12425
LOCATION:Doug Woog Arena (Wakota)
SUMMARY:Intermediate Game at Doug Woog Arena (Wakota)
CLASS:PUBLIC
DTSTAMP:20260421T112052Z
END:VEVENT
END:VCALENDAR