BEGIN:VCALENDAR
VERSION:2.0
PRODID:JMS Hockey
X-PUBLISHED-TTL:P1W
BEGIN:VEVENT
UID:69e7b39de2a02
DTSTART:20100211T041500Z
SEQUENCE:0
TRANSP:OPAQUE
DTEND:20100211T054500Z
URL:http://jmshockey.com/games/1239
LOCATION:Highland Arena
SUMMARY:Level 2 Game at Highland Arena
CLASS:PUBLIC
DTSTAMP:20260421T122757Z
END:VEVENT
END:VCALENDAR