BEGIN:VCALENDAR
VERSION:2.0
PRODID:JMS Hockey
X-PUBLISHED-TTL:P1W
BEGIN:VEVENT
UID:69e7959cd3e36
DTSTART:20191127T033000Z
SEQUENCE:0
TRANSP:OPAQUE
DTEND:20191127T050000Z
URL:http://jmshockey.com/games/12384
LOCATION:Apple Valley Sports Arena
SUMMARY:Lower Level Game at Apple Valley Sports Arena
CLASS:PUBLIC
DTSTAMP:20260421T101956Z
END:VEVENT
END:VCALENDAR