BEGIN:VCALENDAR
VERSION:2.0
PRODID:JMS Hockey
X-PUBLISHED-TTL:P1W
BEGIN:VEVENT
UID:69e7a3d8b8b88
DTSTART:20191026T025000Z
SEQUENCE:0
TRANSP:OPAQUE
DTEND:20191026T042000Z
URL:http://jmshockey.com/games/12381
LOCATION:Doug Woog Arena (Wakota)
SUMMARY:Intermediate Game at Doug Woog Arena (Wakota)
CLASS:PUBLIC
DTSTAMP:20260421T112040Z
END:VEVENT
END:VCALENDAR