BEGIN:VCALENDAR
VERSION:2.0
PRODID:JMS Hockey
X-PUBLISHED-TTL:P1W
BEGIN:VEVENT
UID:69e7855e04be9
DTSTART:20191029T025000Z
SEQUENCE:0
TRANSP:OPAQUE
DTEND:20191029T042000Z
URL:http://jmshockey.com/games/12372
LOCATION:Doug Woog Arena (Wakota)
SUMMARY:Lower Level Game at Doug Woog Arena (Wakota)
CLASS:PUBLIC
DTSTAMP:20260421T091038Z
END:VEVENT
END:VCALENDAR