BEGIN:VCALENDAR
VERSION:2.0
PRODID:JMS Hockey
X-PUBLISHED-TTL:P1W
BEGIN:VEVENT
UID:69e73d8bcdd73
DTSTART:20191015T025000Z
SEQUENCE:0
TRANSP:OPAQUE
DTEND:20191015T042000Z
URL:http://jmshockey.com/games/12369
LOCATION:Doug Woog Arena (Wakota)
SUMMARY:Lower Level Game at Doug Woog Arena (Wakota)
CLASS:PUBLIC
DTSTAMP:20260421T040411Z
END:VEVENT
END:VCALENDAR