BEGIN:VCALENDAR
VERSION:2.0
PRODID:JMS Hockey
X-PUBLISHED-TTL:P1W
BEGIN:VEVENT
UID:69e76121a58be
DTSTART:20191004T021000Z
SEQUENCE:0
TRANSP:OPAQUE
DTEND:20191004T034000Z
URL:http://jmshockey.com/games/12365
LOCATION:Woodbury Bielenberg
SUMMARY:Lower Level Game at Woodbury Bielenberg
CLASS:PUBLIC
DTSTAMP:20260421T063601Z
END:VEVENT
END:VCALENDAR