BEGIN:VCALENDAR
VERSION:2.0
PRODID:JMS Hockey
X-PUBLISHED-TTL:P1W
BEGIN:VEVENT
UID:69e7dda320362
DTSTART:20100206T040000Z
SEQUENCE:0
TRANSP:OPAQUE
DTEND:20100206T053000Z
URL:http://jmshockey.com/games/1233
LOCATION:Richfield Ice Arena
SUMMARY:Level 4 Game at Richfield Ice Arena
CLASS:PUBLIC
DTSTAMP:20260421T152715Z
END:VEVENT
END:VCALENDAR