BEGIN:VCALENDAR
VERSION:2.0
PRODID:JMS Hockey
X-PUBLISHED-TTL:P1W
BEGIN:VEVENT
UID:69e7964ff1362
DTSTART:20190925T011500Z
SEQUENCE:0
TRANSP:OPAQUE
DTEND:20190925T024500Z
URL:http://jmshockey.com/games/12296
LOCATION:Apple Valley Sports Arena
SUMMARY:Lower Level Game at Apple Valley Sports Arena
CLASS:PUBLIC
DTSTAMP:20260421T102255Z
END:VEVENT
END:VCALENDAR