BEGIN:VCALENDAR
VERSION:2.0
PRODID:JMS Hockey
X-PUBLISHED-TTL:P1W
BEGIN:VEVENT
UID:69e7d84c3668f
DTSTART:20100206T034500Z
SEQUENCE:0
TRANSP:OPAQUE
DTEND:20100206T051500Z
URL:http://jmshockey.com/games/1229
LOCATION:Plymouth Ice Center
SUMMARY:Level 3 Game at Plymouth Ice Center
CLASS:PUBLIC
DTSTAMP:20260421T150428Z
END:VEVENT
END:VCALENDAR