BEGIN:VCALENDAR
VERSION:2.0
PRODID:JMS Hockey
X-PUBLISHED-TTL:P1W
BEGIN:VEVENT
UID:69e79630125c0
DTSTART:20190914T023000Z
SEQUENCE:0
TRANSP:OPAQUE
DTEND:20190914T040000Z
URL:http://jmshockey.com/games/12289
LOCATION:Doug Woog Arena (Wakota)
SUMMARY:Intermediate Game at Doug Woog Arena (Wakota)
CLASS:PUBLIC
DTSTAMP:20260421T102224Z
END:VEVENT
END:VCALENDAR